BEGIN:VCALENDAR
VERSION:2.0
PRODID:-//Live Healthy Gwinnett - ECPv6.15.12.2//NONSGML v1.0//EN
CALSCALE:GREGORIAN
METHOD:PUBLISH
X-ORIGINAL-URL:http://livehealthygwinnett.com
X-WR-CALDESC:Events for Live Healthy Gwinnett
REFRESH-INTERVAL;VALUE=DURATION:PT1H
X-Robots-Tag:noindex
X-PUBLISHED-TTL:PT1H
BEGIN:VTIMEZONE
TZID:America/New_York
BEGIN:DAYLIGHT
TZOFFSETFROM:-0500
TZOFFSETTO:-0400
TZNAME:EDT
DTSTART:20250309T070000
END:DAYLIGHT
BEGIN:STANDARD
TZOFFSETFROM:-0400
TZOFFSETTO:-0500
TZNAME:EST
DTSTART:20251102T060000
END:STANDARD
BEGIN:DAYLIGHT
TZOFFSETFROM:-0500
TZOFFSETTO:-0400
TZNAME:EDT
DTSTART:20260308T070000
END:DAYLIGHT
BEGIN:STANDARD
TZOFFSETFROM:-0400
TZOFFSETTO:-0500
TZNAME:EST
DTSTART:20261101T060000
END:STANDARD
BEGIN:DAYLIGHT
TZOFFSETFROM:-0500
TZOFFSETTO:-0400
TZNAME:EDT
DTSTART:20270314T070000
END:DAYLIGHT
BEGIN:STANDARD
TZOFFSETFROM:-0400
TZOFFSETTO:-0500
TZNAME:EST
DTSTART:20271107T060000
END:STANDARD
END:VTIMEZONE
BEGIN:VEVENT
DTSTART;TZID=America/New_York:20260429T163000
DTEND;TZID=America/New_York:20260429T173000
DTSTAMP:20260422T181358
CREATED:20260319T183248Z
LAST-MODIFIED:20260319T183248Z
UID:2741-1777480200-1777483800@livehealthygwinnett.com
SUMMARY:Grayson Library Play Day
DESCRIPTION:Free! Join Live Healthy Gwinnett for a Library Play Day where families can enjoy interactive play\, fun games\, crafts\, and more!
URL:http://livehealthygwinnett.com/event/grayson-library-play-day-2/
LOCATION:Grayson Library Branch\, 700 Grayson Pkwy\, Grayson\, GA
END:VEVENT
BEGIN:VEVENT
DTSTART;TZID=America/New_York:20260509T090000
DTEND;TZID=America/New_York:20260509T100000
DTSTAMP:20260422T181358
CREATED:20260219T220841Z
LAST-MODIFIED:20260219T220841Z
UID:2704-1778317200-1778320800@livehealthygwinnett.com
SUMMARY:Walk the Talk
DESCRIPTION:Free! May is National Mental Health Awareness Month – walk and talk with professionals from GUIDE to discuss strategies for managing stress\, building resilience\, supporting emotional well-being\, and connecting with mental health resources in your community! The speaker will review upcoming classes\, programs\, events\, and more. Call 770.822.3197 for more information. We’ll meet at the pavilion. Please wear comfortable walking shoes and remember your water bottle. \n \n 
URL:http://livehealthygwinnett.com/event/walk-the-talk-6/
LOCATION:Vines Park\, 3500 Oak Grove Rd SW\, Loganville\, GA\, 30052
END:VEVENT
BEGIN:VEVENT
DTSTART;TZID=America/New_York:20260509T110000
DTEND;TZID=America/New_York:20260509T120000
DTSTAMP:20260422T181358
CREATED:20260421T181905Z
LAST-MODIFIED:20260421T181905Z
UID:2763-1778324400-1778328000@livehealthygwinnett.com
SUMMARY:Kids in the Kitchen
DESCRIPTION:Kids in the Kitchen: Backyard Bash is a hands-on summer cooking series designed to introduce children to simple food preparation in a fun and engaging way. Each session features kid-friendly recipes\, fresh ingredients\, and interactive activities that encourage creativity\, confidence\, and excitement in the kitchen. Participants will prepare a taco-inspired dish using fresh ingredients and simple assembly techniques. This session offers a fun\, seasonal way for children to create something colorful and meaningful to share.
URL:http://livehealthygwinnett.com/event/kids-in-the-kitchen/
LOCATION:Rhodes Jordan Park\, 225 Benson St\, Lawrenceville
END:VEVENT
BEGIN:VEVENT
DTSTART;TZID=America/New_York:20260512T170000
DTEND;TZID=America/New_York:20260512T180000
DTSTAMP:20260422T181358
CREATED:20260204T205559Z
LAST-MODIFIED:20260204T205559Z
UID:2680-1778605200-1778608800@livehealthygwinnett.com
SUMMARY:Days of Play
DESCRIPTION:Drop in and get moving with Be Active Gwinnett! Enjoy a fun-filled day if interactive games and activities while discovering valuable community resources.
URL:http://livehealthygwinnett.com/event/days-of-play-9/
LOCATION:Lillian Webb Park\, 5 College St NW
END:VEVENT
BEGIN:VEVENT
DTSTART;TZID=America/New_York:20260514T170000
DTEND;TZID=America/New_York:20260514T180000
DTSTAMP:20260422T181358
CREATED:20260204T205907Z
LAST-MODIFIED:20260204T205907Z
UID:2682-1778778000-1778781600@livehealthygwinnett.com
SUMMARY:Days of Play
DESCRIPTION:Drop in and get moving with Be Active Gwinnett! Enjoy a fun-filled day if interactive games and activities while discovering valuable community resources.
URL:http://livehealthygwinnett.com/event/days-of-play-10/
LOCATION:Lilburn City Park\, 76 Main Street\, Lilburn
END:VEVENT
BEGIN:VEVENT
DTSTART;TZID=America/New_York:20260519T170000
DTEND;TZID=America/New_York:20260519T180000
DTSTAMP:20260422T181358
CREATED:20260204T210137Z
LAST-MODIFIED:20260204T210137Z
UID:2684-1779210000-1779213600@livehealthygwinnett.com
SUMMARY:Days of Play
DESCRIPTION:Drop in and get moving with Be Active Gwinnett! Enjoy a fun-filled day if interactive games and activities while discovering valuable community resources.
URL:http://livehealthygwinnett.com/event/days-of-play-11/
LOCATION:Duluth Town Green\, 3167 Main St\, Duluth
END:VEVENT
BEGIN:VEVENT
DTSTART;TZID=America/New_York:20260522T170000
DTEND;TZID=America/New_York:20260522T180000
DTSTAMP:20260422T181358
CREATED:20260204T210300Z
LAST-MODIFIED:20260204T210300Z
UID:2686-1779469200-1779472800@livehealthygwinnett.com
SUMMARY:Days of Play
DESCRIPTION:Drop in and get moving with Be Active Gwinnett! Enjoy a fun-filled day if interactive games and activities while discovering valuable community resources.
URL:http://livehealthygwinnett.com/event/days-of-play-12/
LOCATION:Lawrenceville Lawn\, 210 Luckie St\, Lawrenceville
END:VEVENT
BEGIN:VEVENT
DTSTART;TZID=America/New_York:20260530T100000
DTEND;TZID=America/New_York:20260530T130000
DTSTAMP:20260422T181358
CREATED:20260401T213749Z
LAST-MODIFIED:20260401T213749Z
UID:2754-1780135200-1780146000@livehealthygwinnett.com
SUMMARY:Gwinnett Community Health Fair
DESCRIPTION:Join Live Healthy Gwinnett for a Gwinnett Community Health Fair on Saturday\, May 30 at St. Andrew Kim Korean Catholic Church! Enjoy free screenings\, cooking demonstrations\, educational resources\, and giveaways!
URL:http://livehealthygwinnett.com/event/gwinnett-community-health-fair-3/
LOCATION:St. Andrew Kim Korean Catholic Church\, 2249 Duluth Highway 120\, Duluth\, GA\, 30097
END:VEVENT
BEGIN:VEVENT
DTSTART;TZID=America/New_York:20260609T170000
DTEND;TZID=America/New_York:20260609T180000
DTSTAMP:20260422T181358
CREATED:20260421T182854Z
LAST-MODIFIED:20260421T182854Z
UID:2773-1781024400-1781028000@livehealthygwinnett.com
SUMMARY:Days of Play in Gwinnett
DESCRIPTION:Drop in and get moving with Be Active Gwinnett! Enjoy a fun-filled day of interactive games and activities while discovering valuable community resources.
URL:http://livehealthygwinnett.com/event/days-of-play-in-gwinnett-2/
LOCATION:Lillian Webb Park\, 5 College St NW
END:VEVENT
BEGIN:VEVENT
DTSTART;TZID=America/New_York:20260611T170000
DTEND;TZID=America/New_York:20260611T180000
DTSTAMP:20260422T181358
CREATED:20260421T182752Z
LAST-MODIFIED:20260421T182752Z
UID:2770-1781197200-1781200800@livehealthygwinnett.com
SUMMARY:Days of Play in Gwinnett
DESCRIPTION:Drop in and get moving with Be Active Gwinnett! Enjoy a fun-filled day of interactive games and activities while discovering valuable community resources.
URL:http://livehealthygwinnett.com/event/days-of-play-in-gwinnett/
LOCATION:Lilburn City Park\, 76 Main Street\, Lilburn
END:VEVENT
BEGIN:VEVENT
DTSTART;TZID=America/New_York:20260613T110000
DTEND;TZID=America/New_York:20260613T120000
DTSTAMP:20260422T181358
CREATED:20260421T182432Z
LAST-MODIFIED:20260421T182432Z
UID:2768-1781348400-1781352000@livehealthygwinnett.com
SUMMARY:Kids in the Kitchen
DESCRIPTION:Kids in the Kitchen: Backyard Bash is a hands-on summer cooking series designed to introduce children to simple food preparation in a fun and engaging way. Each session features kid-friendly recipes\, fresh ingredients\, and interactive activities that encourage creativity\, confidence\, and excitement in the kitchen. Participants will assemble their own kabobs and prepare a fresh side dish while practicing basic kitchen skills. This session continues the Backyard Bash theme with a fun and interactive summer cooking experience.
URL:http://livehealthygwinnett.com/event/kids-in-the-kitchen-3/
LOCATION:Shorty Howell Park\, 2750 Pleasant Hill Rd\, Duluth\, GA\, 30096
END:VEVENT
BEGIN:VEVENT
DTSTART;TZID=America/New_York:20260616T170000
DTEND;TZID=America/New_York:20260616T180000
DTSTAMP:20260422T181358
CREATED:20260421T183055Z
LAST-MODIFIED:20260421T183055Z
UID:2777-1781629200-1781632800@livehealthygwinnett.com
SUMMARY:Days of Play in Gwinnett
DESCRIPTION:Drop in and get moving with Be Active Gwinnett! Enjoy a fun-filled day of interactive games and activities while discovering valuable community resources.
URL:http://livehealthygwinnett.com/event/days-of-play-in-gwinnett-4/
LOCATION:Duluth Town Green\, 3167 Main St\, Duluth
END:VEVENT
BEGIN:VEVENT
DTSTART;TZID=America/New_York:20260626T170000
DTEND;TZID=America/New_York:20260626T180000
DTSTAMP:20260422T181358
CREATED:20260421T182956Z
LAST-MODIFIED:20260421T182956Z
UID:2775-1782493200-1782496800@livehealthygwinnett.com
SUMMARY:Days of Play in Gwinnett
DESCRIPTION:Drop in and get moving with Be Active Gwinnett! Enjoy a fun-filled day of interactive games and activities while discovering valuable community resources.
URL:http://livehealthygwinnett.com/event/days-of-play-in-gwinnett-3/
LOCATION:Lawrenceville Lawn\, 210 Luckie St\, Lawrenceville
END:VEVENT
BEGIN:VEVENT
DTSTART;TZID=America/New_York:20260707T170000
DTEND;TZID=America/New_York:20260707T180000
DTSTAMP:20260422T181358
CREATED:20260421T183255Z
LAST-MODIFIED:20260421T183255Z
UID:2781-1783443600-1783447200@livehealthygwinnett.com
SUMMARY:Days of Play in Gwinnett
DESCRIPTION:Drop in and get moving with Be Active Gwinnett! Enjoy a fun-filled day of interactive games and activities while discovering valuable community resources.
URL:http://livehealthygwinnett.com/event/days-of-play-in-gwinnett-6/
LOCATION:Lillian Webb Park\, 5 College St NW
END:VEVENT
BEGIN:VEVENT
DTSTART;TZID=America/New_York:20260709T170000
DTEND;TZID=America/New_York:20260709T180000
DTSTAMP:20260422T181358
CREATED:20260421T183150Z
LAST-MODIFIED:20260421T183150Z
UID:2779-1783616400-1783620000@livehealthygwinnett.com
SUMMARY:Days of Play in Gwinnett
DESCRIPTION:Drop in and get moving with Be Active Gwinnett! Enjoy a fun-filled day of interactive games and activities while discovering valuable community resources.
URL:http://livehealthygwinnett.com/event/days-of-play-in-gwinnett-5/
LOCATION:Lilburn City Park\, 76 Main Street\, Lilburn
END:VEVENT
BEGIN:VEVENT
DTSTART;TZID=America/New_York:20260714T170000
DTEND;TZID=America/New_York:20260714T180000
DTSTAMP:20260422T181358
CREATED:20260421T183613Z
LAST-MODIFIED:20260421T183613Z
UID:2785-1784048400-1784052000@livehealthygwinnett.com
SUMMARY:Days of Play in Gwinnett
DESCRIPTION:Drop in and get moving with Be Active Gwinnett! Enjoy a fun-filled day of interactive games and activities while discovering valuable community resources.
URL:http://livehealthygwinnett.com/event/days-of-play-in-gwinnett-8/
LOCATION:Duluth Town Green\, 3167 Main St\, Duluth
END:VEVENT
BEGIN:VEVENT
DTSTART;TZID=America/New_York:20260724T170000
DTEND;TZID=America/New_York:20260724T180000
DTSTAMP:20260422T181358
CREATED:20260421T183357Z
LAST-MODIFIED:20260421T183357Z
UID:2783-1784912400-1784916000@livehealthygwinnett.com
SUMMARY:Days of Play in Gwinnett
DESCRIPTION:Drop in and get moving with Be Active Gwinnett! Enjoy a fun-filled day of interactive games and activities while discovering valuable community resources.
URL:http://livehealthygwinnett.com/event/days-of-play-in-gwinnett-7/
LOCATION:Lawrenceville Lawn\, 210 Luckie St\, Lawrenceville
END:VEVENT
BEGIN:VEVENT
DTSTART;TZID=America/New_York:20260725T110000
DTEND;TZID=America/New_York:20260725T120000
DTSTAMP:20260422T181358
CREATED:20260421T182146Z
LAST-MODIFIED:20260421T182253Z
UID:2766-1784977200-1784980800@livehealthygwinnett.com
SUMMARY:Kids in the Kitchen
DESCRIPTION:Kids in the Kitchen: Backyard Bash is a hands-on summer cooking series designed to introduce children to simple food preparation in a fun and engaging way. Each session features kid-friendly recipes\, fresh ingredients\, and interactive activities that encourage creativity\, confidence\, and excitement in the kitchen. Participants will create a simple\, build-your-own lunch inspired by easy summer picnic foods. This session combines creativity and practical food skills while introducing lunch ideas children can recreate at home.
URL:http://livehealthygwinnett.com/event/kids-in-the-kitchen-2/
LOCATION:Alexander Park\, 800 Old Snellville Hwy\, Lawrenceville
END:VEVENT
BEGIN:VEVENT
DTSTART;TZID=America/New_York:20260811T170000
DTEND;TZID=America/New_York:20260811T180000
DTSTAMP:20260422T181358
CREATED:20260421T184005Z
LAST-MODIFIED:20260421T184005Z
UID:2789-1786467600-1786471200@livehealthygwinnett.com
SUMMARY:Days of Play in Gwinnett
DESCRIPTION:Drop in and get moving with Be Active Gwinnett! Enjoy a fun-filled day of interactive games and activities while discovering valuable community resources.
URL:http://livehealthygwinnett.com/event/days-of-play-in-gwinnett-10/
LOCATION:Lillian Webb Park\, 5 College St NW
END:VEVENT
BEGIN:VEVENT
DTSTART;TZID=America/New_York:20260813T170000
DTEND;TZID=America/New_York:20260813T180000
DTSTAMP:20260422T181358
CREATED:20260421T183737Z
LAST-MODIFIED:20260421T183737Z
UID:2787-1786640400-1786644000@livehealthygwinnett.com
SUMMARY:Days of Play in Gwinnett
DESCRIPTION:Drop in and get moving with Be Active Gwinnett! Enjoy a fun-filled day of interactive games and activities while discovering valuable community resources.
URL:http://livehealthygwinnett.com/event/days-of-play-in-gwinnett-9/
LOCATION:Lilburn City Park\, 76 Main Street\, Lilburn
END:VEVENT
BEGIN:VEVENT
DTSTART;TZID=America/New_York:20260818T170000
DTEND;TZID=America/New_York:20260818T180000
DTSTAMP:20260422T181358
CREATED:20260421T184235Z
LAST-MODIFIED:20260421T184235Z
UID:2793-1787072400-1787076000@livehealthygwinnett.com
SUMMARY:Days of Play in Gwinnett
DESCRIPTION:Drop in and get moving with Be Active Gwinnett! Enjoy a fun-filled day of interactive games and activities while discovering valuable community resources.
URL:http://livehealthygwinnett.com/event/days-of-play-in-gwinnett-12/
LOCATION:Duluth Town Green\, 3167 Main St\, Duluth
END:VEVENT
BEGIN:VEVENT
DTSTART;TZID=America/New_York:20260828T170000
DTEND;TZID=America/New_York:20260828T180000
DTSTAMP:20260422T181358
CREATED:20260421T184118Z
LAST-MODIFIED:20260421T184118Z
UID:2791-1787936400-1787940000@livehealthygwinnett.com
SUMMARY:Days of Play in Gwinnett
DESCRIPTION:Drop in and get moving with Be Active Gwinnett! Enjoy a fun-filled day of interactive games and activities while discovering valuable community resources.
URL:http://livehealthygwinnett.com/event/days-of-play-in-gwinnett-11/
LOCATION:Lawrenceville Lawn\, 210 Luckie St\, Lawrenceville
END:VEVENT
END:VCALENDAR